BEGIN:VCALENDAR
VERSION:2.0
PRODID:www.gruene-oftersheim.de
METHOD:PUBLISH
BEGIN:VTIMEZONE
TZID:Europe/Berlin
X-LIC-LOCATION:Europe/Berlin
BEGIN:DAYLIGHT
TZOFFSETFROM:+0100
TZOFFSETTO:+0200
TZNAME:CEST
DTSTART:19700329T020000
RRULE:FREQ=YEARLY;INTERVAL=1;BYDAY=-1SU;BYMONTH=3
END:DAYLIGHT
BEGIN:STANDARD
TZOFFSETFROM:+0200
TZOFFSETTO:+0100
TZNAME:CET
DTSTART:19701025T030000
RRULE:FREQ=YEARLY;INTERVAL=1;BYDAY=-1SU;BYMONTH=10
END:STANDARD
END:VTIMEZONE
BEGIN:VEVENT
UID:1b6f780ff372118b9328ec127324c2c5@www.gruene-oftersheim.de
URL;VALUE=URI:https://www.gruene-oftersheim.de/termine/energiewende-in-de
 r-kurpfalz-windkraft-und-solarparks/
LOCATION:Online
SUMMARY:Energiewende in der Kurpfalz: Windkraft und Solarparks
DESCRIPTION;ALTREP="data:text/html,Der%20Landtagsabgeordnete%20der%20Gr%C
 3%BCnen%2C%20Dr.%20Andre%20Baumann%2C%20l%C3%A4dt%20Interessierte%2C%20B%
 C3%BCrgerinnen%20und%20B%C3%BCrger%20zu%20einer%20Veranstaltung%20im%20Ra
 hmen%20seiner%20Veranstaltungsreihe%20%E2%80%9EEnergiewende%20in%20der%20
 Kurpfalz%E2%80%9C%20ein.%0A%0AWeitere%20Informationen%20und%20die%20Zugan
 gsdaten%20finden%20Sie%20unter%20%3Ca%20href%3D%22https%3A%2F%2Fandrebaum
 ann.de%2Falle-termine%2Fenergiewende-in-der-kurpfalz-windkraft-und-solarp
 arks%2F%22%3Ewww.andrebaumann.de%3C%2Fa%3E":Der Landtagsabgeordnete der G
 rünen\, Dr. Andre Baumann\, lädt Interessierte\, Bürgerinnen und Bürg
 er zu einer Veranstaltung im Rahmen seiner Veranstaltungsreihe „Energie
 wende in der Kurpfalz“ ein.\n\nWeitere Informationen und die Zugangsdat
 en finden Sie unter www.andrebaumann.de
CLASS:PUBLIC
DTSTART;TZID=Europe/Berlin:20220329T203000
DTEND;TZID=Europe/Berlin:20220329T213000
DTSTAMP:20260422T024720
END:VEVENT
END:VCALENDAR