BEGIN:VCALENDAR
VERSION:2.0
PRODID:www.gruene-oftersheim.de
METHOD:PUBLISH
BEGIN:VTIMEZONE
TZID:Europe/Berlin
X-LIC-LOCATION:Europe/Berlin
BEGIN:DAYLIGHT
TZOFFSETFROM:+0100
TZOFFSETTO:+0200
TZNAME:CEST
DTSTART:19700329T020000
RRULE:FREQ=YEARLY;INTERVAL=1;BYDAY=-1SU;BYMONTH=3
END:DAYLIGHT
BEGIN:STANDARD
TZOFFSETFROM:+0200
TZOFFSETTO:+0100
TZNAME:CET
DTSTART:19701025T030000
RRULE:FREQ=YEARLY;INTERVAL=1;BYDAY=-1SU;BYMONTH=10
END:STANDARD
END:VTIMEZONE
BEGIN:VEVENT
UID:597e9dbd53307d45dd0664050aae9eb5@www.gruene-oftersheim.de
URL;VALUE=URI:https://www.gruene-oftersheim.de/termine/oeffentliche-frakt
 ionssitzung-34/
LOCATION:Treffpunkt Brunnen vor dem Rathaus
SUMMARY:Bürgersprechstunde und Öffentliche Fraktionssitzung
DESCRIPTION;ALTREP="data:text/html,%0A%3Ch5%20class%3D%22wp-block-heading
 %22%3E%3Cstrong%3E19%20-%2019%3A30%20Uhr%3A%20B%C3%BCrgersprechstunde%3C%
 2Fstrong%3E%3C%2Fh5%3E%0A%0A%0A%0A%3Cp%3EEs%20besteht%20die%20M%C3%B6glic
 hkeit%2C%20individuell%20mit%20einem%20Gemeinderat%2Feiner%20Gemeinder%C3
 %A4tin%20zu%20sprechen.%20%3C%2Fp%3E%0A%0A%0A%0A%3Cp%3ETreffpunkt%20ist%2
 0um%20%3Cstrong%3E19%20Uhr%20am%20Brunnen%20vor%20dem%20Rathaus%3C%2Fstro
 ng%3E%2C%20da%20das%20Fraktionszimmer%20nicht%20%C3%B6ffentlich%20zug%C3%
 A4nglich%20ist%3C%2Fp%3E%0A%0A%0A%0A%3Ch5%20class%3D%22wp-block-heading%2
 2%3E%3Cstrong%3EAb%2019%3A30%20Uhr%3A%20%C3%96ffentliche%20Fraktionssitzu
 ng%3C%2Fstrong%3E%3C%2Fh5%3E%0A%0A%0A%0A%3Cp%3EDie%20Fraktion%20der%20Gr%
 C3%BCnen%20im%20Gemeinderat%20trifft%20sich%20zu%20einer%20%C3%B6ffentlic
 hen%20Fraktionssitzung%2C%20in%20der%20sie%20die%20n%C3%A4chste%20Gemeind
 eratssitzung%20vorbereiten%20wird.%3C%2Fp%3E%0A%0A%0A%0A%3Cp%3EAlle%20int
 eressierten%20B%C3%BCrger%2Ainnen%20sind%20herzlich%20zu%20dieser%20Sitzu
 ng%20eingeladen.%3C%2Fp%3E%0A%0A%0A%0A%3Cp%3ETreffpunkt%20ist%20um%20%3Cs
 trong%3E19%3A30%20Uhr%20am%20Brunnen%20vor%20dem%20Rathaus%3C%2Fstrong%3E
 %2C%20da%20das%20Fraktionszimmer%20nicht%20%C3%B6ffentlich%20zug%C3%A4ngl
 ich%20ist%3C%2Fp%3E%0A%0A%0A%0A%3Cp%3E%3C%2Fp%3E%0A%0A%0A%0A%3Cp%3E%3C%2F
 p%3E%0A":19 - 19:30 Uhr: Bürgersprechstunde\n\nEs besteht die Möglichke
 it\, individuell mit einem Gemeinderat/einer Gemeinderätin zu sprechen.\
 n\nTreffpunkt ist um 19 Uhr am Brunnen vor dem Rathaus\, da das Fraktions
 zimmer nicht öffentlich zugänglich ist\n\nAb 19:30 Uhr: Öffentliche Fr
 aktionssitzung\n\nDie Fraktion der Grünen im Gemeinderat trifft sich zu 
 einer öffentlichen Fraktionssitzung\, in der sie die nächste Gemeindera
 tssitzung vorbereiten wird.\n\nAlle interessierten Bürger*innen sind her
 zlich zu dieser Sitzung eingeladen.\n\nTreffpunkt ist um 19:30 Uhr am Bru
 nnen vor dem Rathaus\, da das Fraktionszimmer nicht öffentlich zugängli
 ch ist
CLASS:PUBLIC
DTSTART;TZID=Europe/Berlin:20260423T190000
DTEND;TZID=Europe/Berlin:20260423T200000
DTSTAMP:20260420T033507
END:VEVENT
END:VCALENDAR